BEGIN:VCALENDAR
VERSION:2.0
PRODID:-//jEvents 2.0 for Joomla//EN
CALSCALE:GREGORIAN
METHOD:PUBLISH
BEGIN:VEVENT
UID:aa8a80c7aeace7d540f2190ad27576c6
CATEGORIES:Konzert
CREATED:20221212T123340
SUMMARY:RIAS Kammerchor: Stella Maris
LOCATION:Lutherische Pfarrkirche St. Marien
DESCRIPTION:Kompositionen von de Victoria, Poulenc, Guerrero, Rautavaara, Tallis, Johns
 ton und MacMillan.\n
X-ALT-DESC;FMTTYPE=text/html:<p>Kompositionen von de Victoria, Poulenc, Guerrero, Rautavaara, Tallis, Jo
 hnston und MacMillan.</p>
CONTACT:Diese E-Mail-Adresse ist vor Spambots geschützt! Zur Anzeige muss JavaScript eingeschaltet sein.
DTSTAMP:20260420T062557
DTSTART:20230702T150000
SEQUENCE:0
TRANSP:OPAQUE
END:VEVENT
END:VCALENDAR