BEGIN:VCALENDAR
VERSION:2.0
PRODID:-//jEvents 2.0 for Joomla//EN
CALSCALE:GREGORIAN
METHOD:PUBLISH
BEGIN:VEVENT
UID:634e36f836c26922284bc1a417b3af05
CATEGORIES:Konzert
CREATED:20221212T124120
SUMMARY:Gambenconsort Les Escapades
LOCATION:Hessisches Staatsarchiv Marburg
DESCRIPTION:Zusammen mit Sebastian Mirow, Sprecher, präsentiert das Gambenconsort ein a
 bwechslungsreiches Programm zum Thema „Träume und Visionen“.\n
X-ALT-DESC;FMTTYPE=text/html:<p>Zusammen mit Sebastian Mirow, Sprecher, präsentiert das Gambenconsort ei
 n abwechslungsreiches Programm zum Thema „Träume und Visionen“.</p>
CONTACT:Diese E-Mail-Adresse ist vor Spambots geschützt! Zur Anzeige muss JavaScript eingeschaltet sein.
DTSTAMP:20260420T062552
DTSTART:20231229T180000
SEQUENCE:0
TRANSP:OPAQUE
END:VEVENT
END:VCALENDAR