BEGIN:VCALENDAR
VERSION:2.0
PRODID:-//jEvents 2.0 for Joomla//EN
CALSCALE:GREGORIAN
METHOD:PUBLISH
BEGIN:VEVENT
UID:af44da3849532b07ab67c1d673a276b2
CATEGORIES:Einführungsveranstaltung
CREATED:20251214T234528
SUMMARY:Einführungsvortrag
LOCATION:Fürstensaal des Landgrafenschlosses
DESCRIPTION:Einführungs­vortrag von Musik­wissenschaftler PD Dr. Michael Braun (https:/
 /www.uni-regensburg.de/philosophie-kunst-geschichte-gesellschaft/musikwisse
 nschaft/personen/michael-braun-m-a/index.html) zu Bartók und Bach\n
X-ALT-DESC;FMTTYPE=text/html:<p>Einführungs­vortrag von Musik­wissenschaftler PD Dr. <a href="https://ww
 w.uni-regensburg.de/philosophie-kunst-geschichte-gesellschaft/musikwissensc
 haft/personen/michael-braun-m-a/index.html">Michael Braun</a> zu Bartók und
  Bach</p>
CONTACT:Diese E-Mail-Adresse ist vor Spambots geschützt! Zur Anzeige muss JavaScript eingeschaltet sein.
DTSTAMP:20260422T031202
DTSTART:20260612T160000
DTEND:20260612T163000
SEQUENCE:0
TRANSP:OPAQUE
END:VEVENT
END:VCALENDAR